BEGIN:VCALENDAR
VERSION:2.0
PRODID:-//PUB SOLANA - ECPv6.10.1.1//NONSGML v1.0//EN
CALSCALE:GREGORIAN
METHOD:PUBLISH
X-WR-CALNAME:PUB SOLANA
X-ORIGINAL-URL:https://publasolana.es
X-WR-CALDESC:Eventos para PUB SOLANA
REFRESH-INTERVAL;VALUE=DURATION:PT1H
X-Robots-Tag:noindex
X-PUBLISHED-TTL:PT1H
BEGIN:VTIMEZONE
TZID:UTC
BEGIN:STANDARD
TZOFFSETFROM:+0000
TZOFFSETTO:+0000
TZNAME:UTC
DTSTART:20230101T000000
END:STANDARD
END:VTIMEZONE
BEGIN:VEVENT
DTSTART;TZID=UTC:20231027T080000
DTEND;TZID=UTC:20231027T170000
DTSTAMP:20260421T094722
CREATED:20231025T094600Z
LAST-MODIFIED:20231025T123634Z
UID:519-1698393600-1698426000@publasolana.es
SUMMARY:Concierto Épico de Rock en Vivo: Noche de Acordes Inolvidables
DESCRIPTION:Únete a nosotros para una noche llena de energía y pasión por la música. Te invitamos a nuestro Concierto Épico de Rock en Vivo\, donde experimentarás una velada inolvidable llena de acordes poderosos\, solos de guitarra electrizantes y letras que tocarán tu corazón. Nuestros talentosos músicos te llevarán en un viaje musical que abarcará desde los clásicos del rock hasta las últimas canciones que te harán vibrar. ¡No te pierdas esta oportunidad de sumergirte en la magia de la música en vivo y crear recuerdos que perdurarán para siempre! Asegura tu boleto hoy mismo y únete a nosotros en esta emocionante aventura musical. ¡Te esperamos para una noche inolvidable de rock y diversión!
URL:https://publasolana.es/event/evento-ejemplo-2/
LOCATION:Pubsolana\, Madrid\, España
CATEGORIES:La Solana en Clásico
ATTACH;FMTTYPE=image/jpeg:https://publasolana.es/wp-content/uploads/2023/09/365180754_309876724899312_3521276597328927694_n.jpg
END:VEVENT
BEGIN:VEVENT
DTSTART;TZID=UTC:20231026T000000
DTEND;TZID=UTC:20231026T020000
DTSTAMP:20260421T094722
CREATED:20231025T085923Z
LAST-MODIFIED:20231025T094528Z
UID:470-1698278400-1698285600@publasolana.es
SUMMARY:Actuaciones
DESCRIPTION:
URL:https://publasolana.es/event/actuaciones/
LOCATION:Pubsolana\, Madrid\, España
CATEGORIES:La Solana en Vivo
ATTACH;FMTTYPE=image/jpeg:https://publasolana.es/wp-content/uploads/2023/09/keagan-henman-T0ylsbNAjMY-unsplash-1-scaled.jpg
END:VEVENT
END:VCALENDAR